BEGIN:VCALENDAR
VERSION:2.0
PRODID:-//ChamberMaster//Event Calendar 2.0//EN
METHOD:PUBLISH
X-PUBLISHED-TTL:P3D
REFRESH-INTERVAL:P3D
CALSCALE:GREGORIAN
BEGIN:VEVENT
DTSTART:20250729T163000Z
DTEND:20250729T173000Z
X-MICROSOFT-CDO-ALLDAYEVENT:FALSE
SUMMARY:Communications & Aging Mastermind
DESCRIPTION:Communications & Aging Mastermind\n\n\nA New Chamber Initiative for Forward-Thinking Businesses\n\n \n\n\n\nJuly 29th 12:30pm - We'll be joined by a representative from the Montgomery County Commission on Aging\, who will help us map the landscape of available resources and share how we can be more effective in connecting people to them.  \n\n \n\nMarie will help us shape how we frame our messages.  AARP's framework gives us a model for what age-friendly businesses could look like in action.  And the COA will help ensure those messages lead somewhere useful.  Connecting people to real resources.\n\n \n\nWe are not here to market harder.  We are here to communicate better.\n\n\n \n\nIs your business ready for the future of aging?\n\nOlder adults are the fastest-growing consumer demographic the most overlooked\n\nThis mastermind was created for chamber members who want to:\n\n-Align business strategy with the needs of older adults\n\n-Drive innovation and community impact\n\n-Build customer loyalty across generations\n\n \n\nWhy join?\n\n-Learn how to meet the needs of older adults and tap into their purchasing power\n\n-Collaborate on projects that make real impact in our community\n\n-Position your business as an age-friendly leader\n\n-Access exclusive resources\, workshops\, and networking opportunities\n\n \n\nThis is more than networking.\n\nThis is strategy\, innovation and leadership for businesses ready to serve and grow alongside our aging population\n\n \n\nJoin us for the Launch\n\n\n\nRegistration is required.\n\nRefreshments will be served.
X-ALT-DESC;FMTTYPE=text/html:<div style="font-family: Aptos\, Aptos_EmbeddedFont\, Aptos_MSFontService\, Calibri\, Helvetica\, sans-serif\; font-size: 11pt\; color: rgb(0\, 0\, 0)\; text-align: center\;"><span style="font-size:14px\;"><span style="font-family:arial\;"><strong>Communications &amp\; Aging Mastermind</strong></span></span></div>\n\n<div style="font-family: Aptos\, Aptos_EmbeddedFont\, Aptos_MSFontService\, Calibri\, Helvetica\, sans-serif\; font-size: 11pt\; color: rgb(0\, 0\, 0)\;">\n<div style="text-align: center\;"><span style="font-size:14px\;"><span style="font-family:arial\;"><strong>A New Chamber Initiative for Forward-Thinking Businesses</strong></span></span><br />\n&nbsp\;</div>\n\n<div>\n<div style="direction: ltr\; font-family: Aptos\, Aptos_EmbeddedFont\, Aptos_MSFontService\, Calibri\, Helvetica\, sans-serif\; font-size: 11pt\; color: rgb(0\, 0\, 0)\;">\n<div style="direction: ltr\; font-family: Aptos\, Aptos_EmbeddedFont\, Aptos_MSFontService\, Calibri\, Helvetica\, sans-serif\; font-size: 11pt\; color: rgb(0\, 0\, 0)\;"><b>July 29<sup>th</sup>&nbsp\;12:30pm - We&#39\;ll be joined by a representative from the Montgomery County Commission on Aging</b>\, who will help us map the landscape of available resources and share how we can be more effective in connecting people to them.&nbsp\;&nbsp\;</div>\n\n<div style="direction: ltr\; font-family: Aptos\, Aptos_EmbeddedFont\, Aptos_MSFontService\, Calibri\, Helvetica\, sans-serif\; font-size: 11pt\; color: rgb(0\, 0\, 0)\;">&nbsp\;</div>\n\n<div style="direction: ltr\; font-family: Aptos\, Aptos_EmbeddedFont\, Aptos_MSFontService\, Calibri\, Helvetica\, sans-serif\; font-size: 11pt\; color: rgb(0\, 0\, 0)\;">Marie will help us shape how we frame our messages.&nbsp\; AARP&#39\;s framework gives us a model for what age-friendly businesses could look like in action.&nbsp\; And the COA will help ensure those messages lead somewhere useful.&nbsp\; Connecting people to real resources.</div>\n\n<div style="direction: ltr\; font-family: Aptos\, Aptos_EmbeddedFont\, Aptos_MSFontService\, Calibri\, Helvetica\, sans-serif\; font-size: 11pt\; color: rgb(0\, 0\, 0)\;">&nbsp\;</div>\n\n<div style="direction: ltr\; font-family: Aptos\, Aptos_EmbeddedFont\, Aptos_MSFontService\, Calibri\, Helvetica\, sans-serif\; font-size: 11pt\; color: rgb(0\, 0\, 0)\;">We are not here to market harder.&nbsp\; We are here to communicate better.</div>\n</div>\n</div>\n&nbsp\;\n\n<div style="font-family: Aptos\, Aptos_EmbeddedFont\, Aptos_MSFontService\, Calibri\, Helvetica\, sans-serif\; font-size: 11pt\; color: rgb(0\, 0\, 0)\;"><span style="font-size:14px\;"><span style="font-family:arial\;"><strong>Is your business ready for the future of aging?</strong></span></span></div>\n\n<div style="font-family: Aptos\, Aptos_EmbeddedFont\, Aptos_MSFontService\, Calibri\, Helvetica\, sans-serif\; font-size: 11pt\; color: rgb(0\, 0\, 0)\;"><span style="font-size:14px\;"><span style="font-family:arial\;">Older adults are the fastest-growing consumer demographic the most overlooked</span></span></div>\n\n<div style="font-family: Aptos\, Aptos_EmbeddedFont\, Aptos_MSFontService\, Calibri\, Helvetica\, sans-serif\; font-size: 11pt\; color: rgb(0\, 0\, 0)\;"><span style="font-size:14px\;"><span style="font-family:arial\;">This mastermind was created for chamber members who want to:</span></span></div>\n\n<div style="font-family: Aptos\, Aptos_EmbeddedFont\, Aptos_MSFontService\, Calibri\, Helvetica\, sans-serif\; font-size: 11pt\; color: rgb(0\, 0\, 0)\;"><span style="font-size:14px\;"><span style="font-family:arial\;">-Align business strategy with the needs of older adults</span></span></div>\n\n<div style="font-family: Aptos\, Aptos_EmbeddedFont\, Aptos_MSFontService\, Calibri\, Helvetica\, sans-serif\; font-size: 11pt\; color: rgb(0\, 0\, 0)\;"><span style="font-size:14px\;"><span style="font-family:arial\;">-Drive innovation and community impact</span></span></div>\n\n<div style="font-family: Aptos\, Aptos_EmbeddedFont\, Aptos_MSFontService\, Calibri\, Helvetica\, sans-serif\; font-size: 11pt\; color: rgb(0\, 0\, 0)\;"><span style="font-size:14px\;"><span style="font-family:arial\;">-Build customer loyalty across generations</span></span></div>\n\n<div style="font-family: Aptos\, Aptos_EmbeddedFont\, Aptos_MSFontService\, Calibri\, Helvetica\, sans-serif\; font-size: 11pt\; color: rgb(0\, 0\, 0)\;">&nbsp\;</div>\n\n<div style="font-family: Aptos\, Aptos_EmbeddedFont\, Aptos_MSFontService\, Calibri\, Helvetica\, sans-serif\; font-size: 11pt\; color: rgb(0\, 0\, 0)\;"><span style="font-size:14px\;"><span style="font-family:arial\;"><strong>Why join?</strong></span></span></div>\n\n<div style="font-family: Aptos\, Aptos_EmbeddedFont\, Aptos_MSFontService\, Calibri\, Helvetica\, sans-serif\; font-size: 11pt\; color: rgb(0\, 0\, 0)\;"><span style="font-size:14px\;"><span style="font-family:arial\;">-Learn how to meet the needs of older adults and tap into their purchasing power</span></span></div>\n\n<div style="font-family: Aptos\, Aptos_EmbeddedFont\, Aptos_MSFontService\, Calibri\, Helvetica\, sans-serif\; font-size: 11pt\; color: rgb(0\, 0\, 0)\;"><span style="font-size:14px\;"><span style="font-family:arial\;">-Collaborate on projects that make real impact in our community</span></span></div>\n\n<div style="font-family: Aptos\, Aptos_EmbeddedFont\, Aptos_MSFontService\, Calibri\, Helvetica\, sans-serif\; font-size: 11pt\; color: rgb(0\, 0\, 0)\;"><span style="font-size:14px\;"><span style="font-family:arial\;">-Position your business as an age-friendly leader</span></span></div>\n\n<div style="font-family: Aptos\, Aptos_EmbeddedFont\, Aptos_MSFontService\, Calibri\, Helvetica\, sans-serif\; font-size: 11pt\; color: rgb(0\, 0\, 0)\;"><span style="font-size:14px\;"><span style="font-family:arial\;">-Access exclusive resources\, workshops\, and networking opportunities</span></span></div>\n\n<div style="font-family: Aptos\, Aptos_EmbeddedFont\, Aptos_MSFontService\, Calibri\, Helvetica\, sans-serif\; font-size: 11pt\; color: rgb(0\, 0\, 0)\;">&nbsp\;</div>\n\n<div style="font-family: Aptos\, Aptos_EmbeddedFont\, Aptos_MSFontService\, Calibri\, Helvetica\, sans-serif\; font-size: 11pt\; color: rgb(0\, 0\, 0)\;"><span style="font-size:14px\;"><span style="font-family:arial\;">This is more than networking.</span></span></div>\n\n<div style="font-family: Aptos\, Aptos_EmbeddedFont\, Aptos_MSFontService\, Calibri\, Helvetica\, sans-serif\; font-size: 11pt\; color: rgb(0\, 0\, 0)\;"><span style="font-size:14px\;"><span style="font-family:arial\;">This is strategy\, innovation and leadership for businesses ready to serve and grow alongside our aging population</span></span></div>\n\n<div style="font-family: Aptos\, Aptos_EmbeddedFont\, Aptos_MSFontService\, Calibri\, Helvetica\, sans-serif\; font-size: 11pt\; color: rgb(0\, 0\, 0)\;">&nbsp\;</div>\n\n<div style="font-family: Aptos\, Aptos_EmbeddedFont\, Aptos_MSFontService\, Calibri\, Helvetica\, sans-serif\; font-size: 11pt\; color: rgb(0\, 0\, 0)\;"><span style="font-size:14px\;"><span style="font-family:arial\;">Join us for the Launch</span></span></div>\n</div>\n<br />\n<span style="font-size:14px\;"><span style="font-family:arial\;">Registration is required.<br />\nRefreshments will be served.&nbsp\;</span></span>
LOCATION:Chamber Office
UID:e.797.25434
SEQUENCE:3
DTSTAMP:20260419T150636Z
URL:http://rockville.chambermaster.com/events/details/communications-aging-mastermind-25434
END:VEVENT

END:VCALENDAR
